BEGIN:VCALENDAR
VERSION:2.0
PRODID:-//Turn- und Sportverein Ellhofen e.V. Abteilung Turnen//NONSGML kig
 konsult.se iCalcreator 2.30.10//
CALSCALE:GREGORIAN
METHOD:PUBLISH
UID:49c5f157-eae7-430d-b0b6-ab4c08646ab7
X-WR-CALNAME:iCagenda
X-WR-CALDESC:Event Management Extension for Joomla!
X-WR-RELCALID:3E26604A-50F4-4449-8B3E-E4F4932D05B5
X-WR-TIMEZONE:Europe/Berlin
BEGIN:VTIMEZONE
TZID:Europe/Berlin
BEGIN:STANDARD
TZNAME:CET
DTSTART:20221030T030000
TZOFFSETFROM:+0200
TZOFFSETTO:+0100
RDATE:20231029T030000
END:STANDARD
BEGIN:DAYLIGHT
TZNAME:CEST
DTSTART:20230326T020000
TZOFFSETFROM:+0100
TZOFFSETTO:+0200
RDATE:20240331T020000
END:DAYLIGHT
END:VTIMEZONE
BEGIN:VEVENT
UID:420446c7-d2a9-4094-bdc7-3da889632830
DTSTAMP:20260422T155025Z
CATEGORIES:GYMWELT-Kurs
CLASS:PUBLIC
DESCRIPTION:
DTSTART:20230419T170000Z
DTEND:20230419T170000Z
GEO:00;0
LOCATION:
ORGANIZER;CN=:gymwelt@tsvellhofen.de
SEQUENCE:1
SUMMARY:Fitness-Coctail
TRANSP:OPAQUE
URL:https://turnen-ellhofen.de/index.php/component/icagenda/5-fitness-cocta
 il
END:VEVENT
END:VCALENDAR
